BEGIN:VCALENDAR
PRODID:http://www.kufer.de/kuferweb / DE
VERSION:2.0
METHOD:PUBLISH
CALSCALE:GREGORIAN
X-WR-TIMEZONE:Europe/Berlin
BEGIN:VTIMEZONE
TZID:Europe/Berlin
X-LIC-LOCATION:Europe/Berlin
BEGIN:DAYLIGHT
TZOFFSETFROM:+0100
TZOFFSETTO:+0200
TZNAME:CEST
DTSTART;TZID=Europe/Berlin:19700329T020000
RRULE:FREQ=YEARLY;INTERVAL=1;BYDAY=-1SU;BYMONTH=3
END:DAYLIGHT
BEGIN:STANDARD
TZOFFSETFROM:+0200
TZOFFSETTO:+0100
TZNAME:CET
DTSTART;TZID=Europe/Berlin:19701025T030000
RRULE:FREQ=YEARLY;INTERVAL=1;BYDAY=-1SU;BYMONTH=10
END:STANDARD
END:VTIMEZONE
BEGIN:VEVENT
DTSTAMP:20260419T143804
DTSTART;TZID=Europe/Berlin:20260318T080000
DTEND;TZID=Europe/Berlin:20260318T093000
UID:26F705S01-20260318T080000@KVHSOBERSPREEWALD-LAUSITZ
SUMMARY:Besser lesen, besser schreiben (26F705S01) 
LOCATION:Senftenberg - Integrationswerkstätten Niederlausitz, , 01968 Senftenberg
END:VEVENT
BEGIN:VEVENT
DTSTAMP:20260419T143804
DTSTART;TZID=Europe/Berlin:20260325T080000
DTEND;TZID=Europe/Berlin:20260325T093000
UID:26F705S01-20260325T080000@KVHSOBERSPREEWALD-LAUSITZ
SUMMARY:Besser lesen, besser schreiben (26F705S01) 
LOCATION:Senftenberg - Integrationswerkstätten Niederlausitz, , 01968 Senftenberg
END:VEVENT
BEGIN:VEVENT
DTSTAMP:20260419T143804
DTSTART;TZID=Europe/Berlin:20260401T080000
DTEND;TZID=Europe/Berlin:20260401T093000
UID:26F705S01-20260401T080000@KVHSOBERSPREEWALD-LAUSITZ
SUMMARY:Besser lesen, besser schreiben (26F705S01) 
LOCATION:Senftenberg - Integrationswerkstätten Niederlausitz, , 01968 Senftenberg
END:VEVENT
BEGIN:VEVENT
DTSTAMP:20260419T143804
DTSTART;TZID=Europe/Berlin:20260408T080000
DTEND;TZID=Europe/Berlin:20260408T093000
UID:26F705S01-20260408T080000@KVHSOBERSPREEWALD-LAUSITZ
SUMMARY:Besser lesen, besser schreiben (26F705S01) 
LOCATION:Senftenberg - Integrationswerkstätten Niederlausitz, , 01968 Senftenberg
END:VEVENT
BEGIN:VEVENT
DTSTAMP:20260419T143804
DTSTART;TZID=Europe/Berlin:20260415T080000
DTEND;TZID=Europe/Berlin:20260415T093000
UID:26F705S01-20260415T080000@KVHSOBERSPREEWALD-LAUSITZ
SUMMARY:Besser lesen, besser schreiben (26F705S01) 
LOCATION:Senftenberg - Integrationswerkstätten Niederlausitz, , 01968 Senftenberg
END:VEVENT
BEGIN:VEVENT
DTSTAMP:20260419T143804
DTSTART;TZID=Europe/Berlin:20260422T080000
DTEND;TZID=Europe/Berlin:20260422T093000
UID:26F705S01-20260422T080000@KVHSOBERSPREEWALD-LAUSITZ
SUMMARY:Besser lesen, besser schreiben (26F705S01) 
LOCATION:Senftenberg - Integrationswerkstätten Niederlausitz, , 01968 Senftenberg
END:VEVENT
BEGIN:VEVENT
DTSTAMP:20260419T143804
DTSTART;TZID=Europe/Berlin:20260429T080000
DTEND;TZID=Europe/Berlin:20260429T093000
UID:26F705S01-20260429T080000@KVHSOBERSPREEWALD-LAUSITZ
SUMMARY:Besser lesen, besser schreiben (26F705S01) 
LOCATION:Senftenberg - Integrationswerkstätten Niederlausitz, , 01968 Senftenberg
END:VEVENT
BEGIN:VEVENT
DTSTAMP:20260419T143804
DTSTART;TZID=Europe/Berlin:20260506T080000
DTEND;TZID=Europe/Berlin:20260506T093000
UID:26F705S01-20260506T080000@KVHSOBERSPREEWALD-LAUSITZ
SUMMARY:Besser lesen, besser schreiben (26F705S01) 
LOCATION:Senftenberg - Integrationswerkstätten Niederlausitz, , 01968 Senftenberg
END:VEVENT
BEGIN:VEVENT
DTSTAMP:20260419T143804
DTSTART;TZID=Europe/Berlin:20260513T080000
DTEND;TZID=Europe/Berlin:20260513T093000
UID:26F705S01-20260513T080000@KVHSOBERSPREEWALD-LAUSITZ
SUMMARY:Besser lesen, besser schreiben (26F705S01) 
LOCATION:Senftenberg - Integrationswerkstätten Niederlausitz, , 01968 Senftenberg
END:VEVENT
BEGIN:VEVENT
DTSTAMP:20260419T143804
DTSTART;TZID=Europe/Berlin:20260520T080000
DTEND;TZID=Europe/Berlin:20260520T093000
UID:26F705S01-20260520T080000@KVHSOBERSPREEWALD-LAUSITZ
SUMMARY:Besser lesen, besser schreiben (26F705S01) 
LOCATION:Senftenberg - Integrationswerkstätten Niederlausitz, , 01968 Senftenberg
END:VEVENT
BEGIN:VEVENT
DTSTAMP:20260419T143804
DTSTART;TZID=Europe/Berlin:20260527T080000
DTEND;TZID=Europe/Berlin:20260527T093000
UID:26F705S01-20260527T080000@KVHSOBERSPREEWALD-LAUSITZ
SUMMARY:Besser lesen, besser schreiben (26F705S01) 
LOCATION:Senftenberg - Integrationswerkstätten Niederlausitz, , 01968 Senftenberg
END:VEVENT
BEGIN:VEVENT
DTSTAMP:20260419T143804
DTSTART;TZID=Europe/Berlin:20260603T080000
DTEND;TZID=Europe/Berlin:20260603T093000
UID:26F705S01-20260603T080000@KVHSOBERSPREEWALD-LAUSITZ
SUMMARY:Besser lesen, besser schreiben (26F705S01) 
LOCATION:Senftenberg - Integrationswerkstätten Niederlausitz, , 01968 Senftenberg
END:VEVENT
BEGIN:VEVENT
DTSTAMP:20260419T143804
DTSTART;TZID=Europe/Berlin:20260610T080000
DTEND;TZID=Europe/Berlin:20260610T093000
UID:26F705S01-20260610T080000@KVHSOBERSPREEWALD-LAUSITZ
SUMMARY:Besser lesen, besser schreiben (26F705S01) 
LOCATION:Senftenberg - Integrationswerkstätten Niederlausitz, , 01968 Senftenberg
END:VEVENT
BEGIN:VEVENT
DTSTAMP:20260419T143804
DTSTART;TZID=Europe/Berlin:20260624T080000
DTEND;TZID=Europe/Berlin:20260624T093000
UID:26F705S01-20260624T080000@KVHSOBERSPREEWALD-LAUSITZ
SUMMARY:Besser lesen, besser schreiben (26F705S01) 
LOCATION:Senftenberg - Integrationswerkstätten Niederlausitz, , 01968 Senftenberg
END:VEVENT
BEGIN:VEVENT
DTSTAMP:20260419T143804
DTSTART;TZID=Europe/Berlin:20260701T080000
DTEND;TZID=Europe/Berlin:20260701T093000
UID:26F705S01-20260701T080000@KVHSOBERSPREEWALD-LAUSITZ
SUMMARY:Besser lesen, besser schreiben (26F705S01) 
LOCATION:Senftenberg - Integrationswerkstätten Niederlausitz, , 01968 Senftenberg
END:VEVENT
BEGIN:VEVENT
DTSTAMP:20260419T143804
DTSTART;TZID=Europe/Berlin:20260708T080000
DTEND;TZID=Europe/Berlin:20260708T093000
UID:26F705S01-20260708T080000@KVHSOBERSPREEWALD-LAUSITZ
SUMMARY:Besser lesen, besser schreiben (26F705S01) 
LOCATION:Senftenberg - Integrationswerkstätten Niederlausitz, , 01968 Senftenberg
END:VEVENT
END:VCALENDAR