BEGIN:VCALENDAR
PRODID:http://www.kufer.de/kuferweb / DE
VERSION:2.0
METHOD:PUBLISH
CALSCALE:GREGORIAN
X-WR-TIMEZONE:Europe/Berlin
BEGIN:VTIMEZONE
TZID:Europe/Berlin
X-LIC-LOCATION:Europe/Berlin
BEGIN:DAYLIGHT
TZOFFSETFROM:+0100
TZOFFSETTO:+0200
TZNAME:CEST
DTSTART;TZID=Europe/Berlin:19700329T020000
RRULE:FREQ=YEARLY;INTERVAL=1;BYDAY=-1SU;BYMONTH=3
END:DAYLIGHT
BEGIN:STANDARD
TZOFFSETFROM:+0200
TZOFFSETTO:+0100
TZNAME:CET
DTSTART;TZID=Europe/Berlin:19701025T030000
RRULE:FREQ=YEARLY;INTERVAL=1;BYDAY=-1SU;BYMONTH=10
END:STANDARD
END:VTIMEZONE
BEGIN:VEVENT
DTSTAMP:20260419T155609
DTSTART;TZID=Europe/Berlin:20260319T080000
DTEND;TZID=Europe/Berlin:20260319T093000
UID:26F706L01-20260319T080000@KVHSOBERSPREEWALD-LAUSITZ
SUMMARY:Besser lesen, besser schreiben (26F706L01) 
LOCATION:Lübbenau - AWO-Spreewaldwerkstätten, , 03222 Lübbenau
END:VEVENT
BEGIN:VEVENT
DTSTAMP:20260419T155609
DTSTART;TZID=Europe/Berlin:20260326T080000
DTEND;TZID=Europe/Berlin:20260326T093000
UID:26F706L01-20260326T080000@KVHSOBERSPREEWALD-LAUSITZ
SUMMARY:Besser lesen, besser schreiben (26F706L01) 
LOCATION:Lübbenau - AWO-Spreewaldwerkstätten, , 03222 Lübbenau
END:VEVENT
BEGIN:VEVENT
DTSTAMP:20260419T155609
DTSTART;TZID=Europe/Berlin:20260402T080000
DTEND;TZID=Europe/Berlin:20260402T093000
UID:26F706L01-20260402T080000@KVHSOBERSPREEWALD-LAUSITZ
SUMMARY:Besser lesen, besser schreiben (26F706L01) 
LOCATION:Lübbenau - AWO-Spreewaldwerkstätten, , 03222 Lübbenau
END:VEVENT
BEGIN:VEVENT
DTSTAMP:20260419T155609
DTSTART;TZID=Europe/Berlin:20260409T080000
DTEND;TZID=Europe/Berlin:20260409T093000
UID:26F706L01-20260409T080000@KVHSOBERSPREEWALD-LAUSITZ
SUMMARY:Besser lesen, besser schreiben (26F706L01) 
LOCATION:Lübbenau - AWO-Spreewaldwerkstätten, , 03222 Lübbenau
END:VEVENT
BEGIN:VEVENT
DTSTAMP:20260419T155609
DTSTART;TZID=Europe/Berlin:20260416T080000
DTEND;TZID=Europe/Berlin:20260416T093000
UID:26F706L01-20260416T080000@KVHSOBERSPREEWALD-LAUSITZ
SUMMARY:Besser lesen, besser schreiben (26F706L01) 
LOCATION:Lübbenau - AWO-Spreewaldwerkstätten, , 03222 Lübbenau
END:VEVENT
BEGIN:VEVENT
DTSTAMP:20260419T155609
DTSTART;TZID=Europe/Berlin:20260423T080000
DTEND;TZID=Europe/Berlin:20260423T093000
UID:26F706L01-20260423T080000@KVHSOBERSPREEWALD-LAUSITZ
SUMMARY:Besser lesen, besser schreiben (26F706L01) 
LOCATION:Lübbenau - AWO-Spreewaldwerkstätten, , 03222 Lübbenau
END:VEVENT
BEGIN:VEVENT
DTSTAMP:20260419T155609
DTSTART;TZID=Europe/Berlin:20260430T080000
DTEND;TZID=Europe/Berlin:20260430T093000
UID:26F706L01-20260430T080000@KVHSOBERSPREEWALD-LAUSITZ
SUMMARY:Besser lesen, besser schreiben (26F706L01) 
LOCATION:Lübbenau - AWO-Spreewaldwerkstätten, , 03222 Lübbenau
END:VEVENT
BEGIN:VEVENT
DTSTAMP:20260419T155609
DTSTART;TZID=Europe/Berlin:20260507T080000
DTEND;TZID=Europe/Berlin:20260507T093000
UID:26F706L01-20260507T080000@KVHSOBERSPREEWALD-LAUSITZ
SUMMARY:Besser lesen, besser schreiben (26F706L01) 
LOCATION:Lübbenau - AWO-Spreewaldwerkstätten, , 03222 Lübbenau
END:VEVENT
BEGIN:VEVENT
DTSTAMP:20260419T155609
DTSTART;TZID=Europe/Berlin:20260521T080000
DTEND;TZID=Europe/Berlin:20260521T093000
UID:26F706L01-20260521T080000@KVHSOBERSPREEWALD-LAUSITZ
SUMMARY:Besser lesen, besser schreiben (26F706L01) 
LOCATION:Lübbenau - AWO-Spreewaldwerkstätten, , 03222 Lübbenau
END:VEVENT
BEGIN:VEVENT
DTSTAMP:20260419T155609
DTSTART;TZID=Europe/Berlin:20260528T080000
DTEND;TZID=Europe/Berlin:20260528T093000
UID:26F706L01-20260528T080000@KVHSOBERSPREEWALD-LAUSITZ
SUMMARY:Besser lesen, besser schreiben (26F706L01) 
LOCATION:Lübbenau - AWO-Spreewaldwerkstätten, , 03222 Lübbenau
END:VEVENT
BEGIN:VEVENT
DTSTAMP:20260419T155609
DTSTART;TZID=Europe/Berlin:20260604T080000
DTEND;TZID=Europe/Berlin:20260604T093000
UID:26F706L01-20260604T080000@KVHSOBERSPREEWALD-LAUSITZ
SUMMARY:Besser lesen, besser schreiben (26F706L01) 
LOCATION:Lübbenau - AWO-Spreewaldwerkstätten, , 03222 Lübbenau
END:VEVENT
BEGIN:VEVENT
DTSTAMP:20260419T155609
DTSTART;TZID=Europe/Berlin:20260611T080000
DTEND;TZID=Europe/Berlin:20260611T093000
UID:26F706L01-20260611T080000@KVHSOBERSPREEWALD-LAUSITZ
SUMMARY:Besser lesen, besser schreiben (26F706L01) 
LOCATION:Lübbenau - AWO-Spreewaldwerkstätten, , 03222 Lübbenau
END:VEVENT
BEGIN:VEVENT
DTSTAMP:20260419T155609
DTSTART;TZID=Europe/Berlin:20260625T080000
DTEND;TZID=Europe/Berlin:20260625T093000
UID:26F706L01-20260625T080000@KVHSOBERSPREEWALD-LAUSITZ
SUMMARY:Besser lesen, besser schreiben (26F706L01) 
LOCATION:Lübbenau - AWO-Spreewaldwerkstätten, , 03222 Lübbenau
END:VEVENT
BEGIN:VEVENT
DTSTAMP:20260419T155609
DTSTART;TZID=Europe/Berlin:20260702T080000
DTEND;TZID=Europe/Berlin:20260702T093000
UID:26F706L01-20260702T080000@KVHSOBERSPREEWALD-LAUSITZ
SUMMARY:Besser lesen, besser schreiben (26F706L01) 
LOCATION:Lübbenau - AWO-Spreewaldwerkstätten, , 03222 Lübbenau
END:VEVENT
BEGIN:VEVENT
DTSTAMP:20260419T155609
DTSTART;TZID=Europe/Berlin:20260709T080000
DTEND;TZID=Europe/Berlin:20260709T093000
UID:26F706L01-20260709T080000@KVHSOBERSPREEWALD-LAUSITZ
SUMMARY:Besser lesen, besser schreiben (26F706L01) 
LOCATION:Lübbenau - AWO-Spreewaldwerkstätten, , 03222 Lübbenau
END:VEVENT
BEGIN:VEVENT
DTSTAMP:20260419T155609
DTSTART;TZID=Europe/Berlin:20260716T080000
DTEND;TZID=Europe/Berlin:20260716T093000
UID:26F706L01-20260716T080000@KVHSOBERSPREEWALD-LAUSITZ
SUMMARY:Besser lesen, besser schreiben (26F706L01) 
LOCATION:Lübbenau - AWO-Spreewaldwerkstätten, , 03222 Lübbenau
END:VEVENT
END:VCALENDAR